BEGIN:VCALENDAR
VERSION:2.0
PRODID:-//Commune de Brunehaut - ECPv6.15.20//NONSGML v1.0//EN
CALSCALE:GREGORIAN
METHOD:PUBLISH
X-WR-CALNAME:Commune de Brunehaut
X-ORIGINAL-URL:https://brunehaut.be
X-WR-CALDESC:Évènements pour Commune de Brunehaut
REFRESH-INTERVAL;VALUE=DURATION:PT1H
X-Robots-Tag:noindex
X-PUBLISHED-TTL:PT1H
BEGIN:VTIMEZONE
TZID:Europe/Paris
BEGIN:DAYLIGHT
TZOFFSETFROM:+0100
TZOFFSETTO:+0200
TZNAME:CEST
DTSTART:20240331T010000
END:DAYLIGHT
BEGIN:STANDARD
TZOFFSETFROM:+0200
TZOFFSETTO:+0100
TZNAME:CET
DTSTART:20241027T010000
END:STANDARD
BEGIN:DAYLIGHT
TZOFFSETFROM:+0100
TZOFFSETTO:+0200
TZNAME:CEST
DTSTART:20250330T010000
END:DAYLIGHT
BEGIN:STANDARD
TZOFFSETFROM:+0200
TZOFFSETTO:+0100
TZNAME:CET
DTSTART:20251026T010000
END:STANDARD
BEGIN:DAYLIGHT
TZOFFSETFROM:+0100
TZOFFSETTO:+0200
TZNAME:CEST
DTSTART:20260329T010000
END:DAYLIGHT
BEGIN:STANDARD
TZOFFSETFROM:+0200
TZOFFSETTO:+0100
TZNAME:CET
DTSTART:20261025T010000
END:STANDARD
END:VTIMEZONE
BEGIN:VEVENT
DTSTART;TZID=Europe/Paris:20251109T090000
DTEND;TZID=Europe/Paris:20251109T140000
DTSTAMP:20260421T233105
CREATED:20250926T095245Z
LAST-MODIFIED:20250926T095246Z
UID:10000269-1762678800-1762696800@brunehaut.be
SUMMARY:Bourse aux jouets et matériel de puériculture
DESCRIPTION:Bourse aux jouets et au matériel de puériculture\nà l’approche des fêtes de fin d’année\, possibilité de faire de bonnes affaires\, jeux\, livres\, ….\nVenez nombreux\nattention : toutes les places pour les vendeurs sont déjà réservées
URL:https://brunehaut.be/agenda/bourse-aux-jouets-et-materiel-de-puericulture-2/
LOCATION:Foyer Saint Brice Wez\, Rue du Chauchoir\, 2\, Wez-Velvain\, 7620\, Belgique
CATEGORIES:Brocante & Marché
ATTACH;FMTTYPE=image/jpeg:https://brunehaut.be/wp-content/uploads/2025/09/PUB-2025-BLANCHE.jpg
ORGANIZER;CN="AMO Graine%2C ONE et CPAS":MAILTO:catherine.musy@amograine.be
END:VEVENT
BEGIN:VEVENT
DTSTART;TZID=Europe/Paris:20251129T090000
DTEND;TZID=Europe/Paris:20251129T120000
DTSTAMP:20260421T233105
CREATED:20250926T095259Z
LAST-MODIFIED:20251127T073339Z
UID:10000270-1764406800-1764417600@brunehaut.be
SUMMARY:Distribution arbres et arbustes 2025
DESCRIPTION:Dans le cadre de la « Semaine de l’arbre 2025 »\, la commune de Brunehaut\, avec le soutien de la Wallonie\,  vous propose gratuitement une diversité de plants de haie fleurie à venir chercher dans la cour des ouvriers de l’administration communale.
URL:https://brunehaut.be/agenda/distribution-arbres-et-arbustes-2025/
LOCATION:Administration communale de Brunehaut\, Rue Wibault Bouchart 11\, Bléharies\, 7620\, Belgique
ATTACH;FMTTYPE=image/jpeg:https://brunehaut.be/wp-content/uploads/2025/09/Capture-decran-2025-09-24-134551.jpg
ORGANIZER;CN="Administration communale de Brunehaut":MAILTO:mickael.haudrechy@commune-brunehaut.be
END:VEVENT
END:VCALENDAR