BEGIN:VCALENDAR
VERSION:2.0
PRODID:-//Commune de Brunehaut - ECPv6.15.20//NONSGML v1.0//EN
CALSCALE:GREGORIAN
METHOD:PUBLISH
X-WR-CALNAME:Commune de Brunehaut
X-ORIGINAL-URL:https://brunehaut.be
X-WR-CALDESC:Évènements pour Commune de Brunehaut
REFRESH-INTERVAL;VALUE=DURATION:PT1H
X-Robots-Tag:noindex
X-PUBLISHED-TTL:PT1H
BEGIN:VTIMEZONE
TZID:Europe/Paris
BEGIN:DAYLIGHT
TZOFFSETFROM:+0100
TZOFFSETTO:+0200
TZNAME:CEST
DTSTART:20240331T010000
END:DAYLIGHT
BEGIN:STANDARD
TZOFFSETFROM:+0200
TZOFFSETTO:+0100
TZNAME:CET
DTSTART:20241027T010000
END:STANDARD
BEGIN:DAYLIGHT
TZOFFSETFROM:+0100
TZOFFSETTO:+0200
TZNAME:CEST
DTSTART:20250330T010000
END:DAYLIGHT
BEGIN:STANDARD
TZOFFSETFROM:+0200
TZOFFSETTO:+0100
TZNAME:CET
DTSTART:20251026T010000
END:STANDARD
BEGIN:DAYLIGHT
TZOFFSETFROM:+0100
TZOFFSETTO:+0200
TZNAME:CEST
DTSTART:20260329T010000
END:DAYLIGHT
BEGIN:STANDARD
TZOFFSETFROM:+0200
TZOFFSETTO:+0100
TZNAME:CET
DTSTART:20261025T010000
END:STANDARD
END:VTIMEZONE
BEGIN:VEVENT
DTSTART;TZID=Europe/Paris:20250530T000000
DTEND;TZID=Europe/Paris:20250601T235959
DTSTAMP:20260421T154748
CREATED:20250430T090013Z
LAST-MODIFIED:20250430T090016Z
UID:10000249-1748563200-1748822399@brunehaut.be
SUMMARY:3 jours de fête pour Margot et Relais pour la vie
DESCRIPTION:Durant tout le weekend\, restauration\, tombola\, activités pour les enfants.Pour les réservations de repas\, brocante et artisanat\, téléphonez au 0495/23.16.24 \n\n\n\nDécouvrez le programme complet sur https://www.facebook.com/groups/1033517775072809
URL:https://brunehaut.be/agenda/3-jours-de-fete-pour-margot-et-relais-pour-la-vie/
END:VEVENT
BEGIN:VEVENT
DTSTART;TZID=Europe/Paris:20250601T140000
DTEND;TZID=Europe/Paris:20250601T180000
DTSTAMP:20260421T154748
CREATED:20250310T081531Z
LAST-MODIFIED:20250310T081533Z
UID:10000227-1748786400-1748800800@brunehaut.be
SUMMARY:Club de jeux de société adultes "Les dépendants ludiques"
DESCRIPTION:Les dépendants ludique\, club de jeux de société adultes vous accueillent à la bibliothèque de Bléharies chaque premier dimanche du mois.\nEnvie de tester ou de s’initier à des jeux de stratégie\, de se lancer dans des parties plus longues ou plus complexes ? Les membres du club sont là pour vous guider !
URL:https://brunehaut.be/agenda/club-de-jeux-de-societe-adultes-les-dependants-ludiques/2025-06-01/
LOCATION:Bibliothèque de Brunehaut\, Rue des Déportés 13\, Brunehaut\, 7620\, Belgique
ATTACH;FMTTYPE=image/jpeg:https://brunehaut.be/wp-content/uploads/2025/02/481577848_543478408752306_8956504435137362445_n.jpg
ORGANIZER;CN="Biblioth%C3%A8que de Brunehaut":MAILTO:clpbbrune@hotmail.com
END:VEVENT
BEGIN:VEVENT
DTSTART;TZID=Europe/Paris:20250605T080000
DTEND;TZID=Europe/Paris:20250605T170000
DTSTAMP:20260421T154748
CREATED:20250610T131344Z
LAST-MODIFIED:20250610T131344Z
UID:10000255-1749110400-1749142800@brunehaut.be
SUMMARY:Ecole communale de Hollain - Portes ouvertes
DESCRIPTION:Portes ouvertes de l’école communale de Hollain.\nVenez visiter notre belle école.\n\nVisites et inscriptions possibles tout au long de l’année scolaire sur rendez-vous.\n\nVandersmissen Fabien\nDirecteur\nGroupe scolaire de la Pierre\n0477/979858
URL:https://brunehaut.be/agenda/ecole-communale-de-hollain-portes-ouvertes/
LOCATION:Ecole communale de Hollain\, Rue Cazier 2A\, Hollain\, 7620\, Belgique
ATTACH;FMTTYPE=image/jpeg:https://brunehaut.be/wp-content/uploads/2025/06/Portes-ouvertes-Hollain_page-0001.jpg
END:VEVENT
BEGIN:VEVENT
DTSTART;TZID=Europe/Paris:20250607T090000
DTEND;TZID=Europe/Paris:20250607T130000
DTSTAMP:20260421T154748
CREATED:20250512T153437Z
LAST-MODIFIED:20250512T153438Z
UID:10000244-1749286800-1749301200@brunehaut.be
SUMMARY:Rando Brunehaut
DESCRIPTION:La sortie Cyclotouriste ainsi que la marche s’effectueront au départ du Café de la Fraternité à Jollain-Merlin (Brunehaut)\, aménagée tout spécialement pour un départ marche à la découverte du petit village de Jollain-Merlin dès 9h sur un parcours campagnard de 6 et 11 km et en vélo\, sur 40 et 70 km accessible à tous\, et également décliné sur un parcours sportif de 100 km avec du dénivelé (D+ 850) de 11H à 13H.
URL:https://brunehaut.be/agenda/rando-brunehaut/
LOCATION:Café de la Fraternité\, Rue Henri Descarpentry 12\, Jollain-Merlin\, 7620\, Belgium
CATEGORIES:Sport
ATTACH;FMTTYPE=image/png:https://brunehaut.be/wp-content/uploads/2025/04/20250417_094203.png
ORGANIZER;CN="100 amis de Bl%C3%A9haries":MAILTO:laurentdumortier@hotmail.com
END:VEVENT
BEGIN:VEVENT
DTSTART;TZID=Europe/Paris:20250607T103000
DTEND;TZID=Europe/Paris:20250607T113000
DTSTAMP:20260421T154748
CREATED:20250219T154749Z
LAST-MODIFIED:20250219T154751Z
UID:10000204-1749292200-1749295800@brunehaut.be
SUMMARY:Lectures enfants à la bibliothèque
DESCRIPTION:Deux fois par mois\, Ambre notre super animatrice invite les tout petits à venir écouter de belles histoires à la bibliothèque.\nA partir de 2 ans jusqu’à 6 ans.\nActivité gratuite / Sans inscription.
URL:https://brunehaut.be/agenda/lectures-enfants-a-la-bibliotheque/2025-06-07/
LOCATION:Bibliothèque de Brunehaut\, Rue des Déportés 13\, Brunehaut\, 7620\, Belgique
CATEGORIES:Littérature
ATTACH;FMTTYPE=image/png:https://brunehaut.be/wp-content/uploads/2025/02/pub-facebook-lecture-enfant-polaroid.png
ORGANIZER;CN="Biblioth%C3%A8que de Brunehaut":MAILTO:clpbbrune@hotmail.com
END:VEVENT
BEGIN:VEVENT
DTSTART;TZID=Europe/Paris:20250612T133000
DTEND;TZID=Europe/Paris:20250612T150000
DTSTAMP:20260421T154748
CREATED:20250224T144338Z
LAST-MODIFIED:20250610T131234Z
UID:10000220-1749735000-1749740400@brunehaut.be
SUMMARY:Parents Zen : les astuces incontournables
DESCRIPTION:L’objectif de ces groupes est de fournir aux parents certains outils qui leur permettront de retrouver le sentiment de compétence parentale (gestion des sanctions\, renforcement positif\, formuler adéquatement une demande\, gestion des écrans\, des devoirs\, etc.)\, certaines techniques pour mieux gérer leurs émotions face aux comportements de leurs enfants\, etc.
URL:https://brunehaut.be/agenda/parents-zen-les-astuces-incontournables/2025-06-12/
LOCATION:Maison des Pépiniéristes\, Rue des Pépinières 24\, Lesdain\, 7620\, Belgium
ATTACH;FMTTYPE=image/jpeg:https://brunehaut.be/wp-content/uploads/2025/02/Parents-Zen-affiche-final.jpg
END:VEVENT
BEGIN:VEVENT
DTSTART;TZID=Europe/Paris:20250614T000000
DTEND;TZID=Europe/Paris:20250615T235959
DTSTAMP:20260421T154748
CREATED:20250610T131256Z
LAST-MODIFIED:20250610T131257Z
UID:10000258-1749859200-1750031999@brunehaut.be
SUMMARY:Jardins ouverts
DESCRIPTION:Les samedi 14 et dimanche 15 juin\, profitez de l’ouverture de neuf jardins et deux vergers sur l’entité pour faire le plein d’idées\, de conseils et de bonnes pratiques de jardinage ! Jardins en transition ou zéro déchet\, encyclopédies à ciel ouvert\, potagers laboratoires… il y en aura pour tous les goûts !
URL:https://brunehaut.be/agenda/jardins-ouverts/
LOCATION:Sur toute l’entité
CATEGORIES:Divers & Autres
ATTACH;FMTTYPE=image/png:https://brunehaut.be/wp-content/uploads/2025/06/BEF-2025-Visuels-RS-carre-Jardins-ouverts.png
END:VEVENT
BEGIN:VEVENT
DTSTART;TZID=Europe/Paris:20250614T000000
DTEND;TZID=Europe/Paris:20250615T235959
DTSTAMP:20260421T154748
CREATED:20250610T131308Z
LAST-MODIFIED:20250610T131310Z
UID:10000257-1749859200-1750031999@brunehaut.be
SUMMARY:Howardries\, haut lieu archéologique !
DESCRIPTION:Les samedi 14 et dimanche 15 juin\, venez découvrir les vestiges historiques découverts dans le village d’Howardries\, fin des années 1950.\nAu gré de l’exposition proposée en accès libre\, de 10h à 18h\, vous pourrez admirer une impressionnante collection des objets découverts . Les samedi et dimanche à 15h Monsieur Stéphane Berton\, paléontologue au Musée d’Histoire naturelle de Bruxelles\, vous contera le récit de ces découvertes et vous éclairera sur les vestiges présentés (visite commentée sur inscriptions via www.developpementruralbrunehaut.info).
URL:https://brunehaut.be/agenda/howardries-haut-lieu-archeologique/
LOCATION:Église d’Howardries\, Chemin du Roi 1\, Howardries\, Hainaut\, 7624\, Belgium
CATEGORIES:Exposition
ATTACH;FMTTYPE=image/jpeg:https://brunehaut.be/wp-content/uploads/2025/06/HOWARDRIES-Pieces-acheologiques-S.Berton-3.jpg
ORGANIZER;CN="Organisateur priv%C3%A9":MAILTO:mariauline@hotmail.com
END:VEVENT
BEGIN:VEVENT
DTSTART;TZID=Europe/Paris:20250621T103000
DTEND;TZID=Europe/Paris:20250621T113000
DTSTAMP:20260421T154748
CREATED:20250219T154749Z
LAST-MODIFIED:20250219T154751Z
UID:10000205-1750501800-1750505400@brunehaut.be
SUMMARY:Lectures enfants à la bibliothèque
DESCRIPTION:Deux fois par mois\, Ambre notre super animatrice invite les tout petits à venir écouter de belles histoires à la bibliothèque.\nA partir de 2 ans jusqu’à 6 ans.\nActivité gratuite / Sans inscription.
URL:https://brunehaut.be/agenda/lectures-enfants-a-la-bibliotheque/2025-06-21/
LOCATION:Bibliothèque de Brunehaut\, Rue des Déportés 13\, Brunehaut\, 7620\, Belgique
CATEGORIES:Littérature
ATTACH;FMTTYPE=image/png:https://brunehaut.be/wp-content/uploads/2025/02/pub-facebook-lecture-enfant-polaroid.png
ORGANIZER;CN="Biblioth%C3%A8que de Brunehaut":MAILTO:clpbbrune@hotmail.com
END:VEVENT
BEGIN:VEVENT
DTSTART;TZID=Europe/Paris:20250626T133000
DTEND;TZID=Europe/Paris:20250626T150000
DTSTAMP:20260421T154748
CREATED:20250224T144338Z
LAST-MODIFIED:20250610T131234Z
UID:10000221-1750944600-1750950000@brunehaut.be
SUMMARY:Parents Zen : les astuces incontournables
DESCRIPTION:L’objectif de ces groupes est de fournir aux parents certains outils qui leur permettront de retrouver le sentiment de compétence parentale (gestion des sanctions\, renforcement positif\, formuler adéquatement une demande\, gestion des écrans\, des devoirs\, etc.)\, certaines techniques pour mieux gérer leurs émotions face aux comportements de leurs enfants\, etc.
URL:https://brunehaut.be/agenda/parents-zen-les-astuces-incontournables/2025-06-26/
LOCATION:Maison des Pépiniéristes\, Rue des Pépinières 24\, Lesdain\, 7620\, Belgium
ATTACH;FMTTYPE=image/jpeg:https://brunehaut.be/wp-content/uploads/2025/02/Parents-Zen-affiche-final.jpg
END:VEVENT
BEGIN:VEVENT
DTSTART;TZID=Europe/Paris:20250629T090000
DTEND;TZID=Europe/Paris:20250629T120000
DTSTAMP:20260421T154748
CREATED:20250620T124322Z
LAST-MODIFIED:20250620T124343Z
UID:10000260-1751187600-1751198400@brunehaut.be
SUMMARY:REPAIR CAFE
DESCRIPTION:LE REPAIR CAFE  c’est réparer ensemble les objets abîmés ou cassés\, le conseil d’experts\, une rencontre\, une temps pour échanger.
URL:https://brunehaut.be/agenda/repair-cafe/
LOCATION:Maison des associations Bléharies\, Rue Wibault Bouchart 24B\, Bléharies\, 7620\, Belgique
CATEGORIES:Divers & Autres
ATTACH;FMTTYPE=image/jpeg:https://brunehaut.be/wp-content/uploads/2025/06/Capture-decran-2025-06-19-133318.jpg
END:VEVENT
END:VCALENDAR