BEGIN:VCALENDAR
VERSION:2.0
PRODID:-//Commune de Brunehaut - ECPv6.15.20//NONSGML v1.0//EN
CALSCALE:GREGORIAN
METHOD:PUBLISH
X-ORIGINAL-URL:https://brunehaut.be
X-WR-CALDESC:Évènements pour Commune de Brunehaut
REFRESH-INTERVAL;VALUE=DURATION:PT1H
X-Robots-Tag:noindex
X-PUBLISHED-TTL:PT1H
BEGIN:VTIMEZONE
TZID:Europe/Paris
BEGIN:DAYLIGHT
TZOFFSETFROM:+0100
TZOFFSETTO:+0200
TZNAME:CEST
DTSTART:20230326T010000
END:DAYLIGHT
BEGIN:STANDARD
TZOFFSETFROM:+0200
TZOFFSETTO:+0100
TZNAME:CET
DTSTART:20231029T010000
END:STANDARD
BEGIN:DAYLIGHT
TZOFFSETFROM:+0100
TZOFFSETTO:+0200
TZNAME:CEST
DTSTART:20240331T010000
END:DAYLIGHT
BEGIN:STANDARD
TZOFFSETFROM:+0200
TZOFFSETTO:+0100
TZNAME:CET
DTSTART:20241027T010000
END:STANDARD
BEGIN:DAYLIGHT
TZOFFSETFROM:+0100
TZOFFSETTO:+0200
TZNAME:CEST
DTSTART:20250330T010000
END:DAYLIGHT
BEGIN:STANDARD
TZOFFSETFROM:+0200
TZOFFSETTO:+0100
TZNAME:CET
DTSTART:20251026T010000
END:STANDARD
BEGIN:DAYLIGHT
TZOFFSETFROM:+0100
TZOFFSETTO:+0200
TZNAME:CEST
DTSTART:20260329T010000
END:DAYLIGHT
BEGIN:STANDARD
TZOFFSETFROM:+0200
TZOFFSETTO:+0100
TZNAME:CET
DTSTART:20261025T010000
END:STANDARD
BEGIN:DAYLIGHT
TZOFFSETFROM:+0100
TZOFFSETTO:+0200
TZNAME:CEST
DTSTART:20270328T010000
END:DAYLIGHT
BEGIN:STANDARD
TZOFFSETFROM:+0200
TZOFFSETTO:+0100
TZNAME:CET
DTSTART:20271031T010000
END:STANDARD
END:VTIMEZONE
BEGIN:VEVENT
DTSTART;TZID=Europe/Paris:20260410T190000
DTEND;TZID=Europe/Paris:20260411T200000
DTSTAMP:20260420T204809
CREATED:20260403T070022Z
LAST-MODIFIED:20260403T070023Z
UID:10000310-1775847600-1775937600@brunehaut.be
SUMMARY:Fancy Fair Ecole Bléharies avec Afterwork et Course Nature
DESCRIPTION:🎉✨ Grand week-end festif à l’École communale de Bléharies ! ✨🎉\n\nNous avons le plaisir de vous inviter à notre fancy-fair qui se déroulera les vendredi 10 et samedi 11 avril ! Un moment convivial\, sportif et familial à ne surtout pas manquer 🥳\n\n🔶 Vendredi 10 avril\n🍹 Afterwork de 18h à 23h\n➡️ Ambiance musicale 🎶\n➡️ Bar & petite restauration 🍟🍻\n\n🏃‍♂️ Course nature (10 km) à 19h\n📍 Départ depuis le chapiteau (parking du terrain de foot)\nUn moment sportif et convivial ouvert à tous ! 💪🌿\n\n🔶 Samedi 11 avril\n💃 Danses des enfants\n👧 11h : maternelles\n🧒 15h : primaires\n\n🍽️ Apéro & repas dès 12h (sur réservation)\n🎣 Pêche aux canards & animations pour les enfants\n\n👉 Tout au long du week-end : bonne humeur\, rencontres et moments de partage garantis !\n\n📞 Informations et réservations : 0477/979.838\n\nNous vous attendons nombreux pour faire de cet événement une belle réussite ! 🎊😊
URL:https://brunehaut.be/agenda/fancy-fair-ecole-bleharies-avec-afterwork-et-course-nature/
LOCATION:Ecole communale de Bléharies\, Rue des Zelvas 2\, Bléharies\, 7620\, Belgique
CATEGORIES:École
ATTACH;FMTTYPE=image/jpeg:https://brunehaut.be/wp-content/uploads/2026/04/Fete-scolaire-Bleharies-2026_page-0001.jpg
ORGANIZER;CN="Ecole Communale Bl%C3%A9haries":MAILTO:frederic.lannoo@commune-brunehaut.be
END:VEVENT
BEGIN:VEVENT
DTSTART;TZID=Europe/Paris:20260410T190000
DTEND;TZID=Europe/Paris:20260410T210000
DTSTAMP:20260420T204809
CREATED:20260403T065956Z
LAST-MODIFIED:20260403T065957Z
UID:10000309-1775847600-1775854800@brunehaut.be
SUMMARY:Course Nature De Bléharies
DESCRIPTION:🏃‍♂️🌿 La Course Nature de Bléharies revient ! 🌿🏃‍♀️\nÀ l’occasion de la Fancy Fair de l’école communale de Bléharies\, nous vous donnons rendez-vous pour la 2ᵉ édition de la Course Nature de Bléharies ! 🎉\n📅 Vendredi 10 avril\n⏰ Départ à 19h\n📍 Départ sous le chapiteau sur le parking du terrain de foot de Bléharies\nAu programme :\n🌳 10 km en pleine nature\n🚶‍♂️ Parcours accessible aussi aux marcheurs\n😄 Ambiance conviviale et sportive\n🍻 After sous chapiteau pour prolonger la soirée dans la bonne humeur !\nQue vous soyez coureur confirmé\, joggeur du dimanche ou simple marcheur\, venez partager ce moment sportif et convivial avec nous 💪\n📲 Inscription facile via le QR code sur l’affiche ou directement sur :\n👉 chronolap.net\nVenez nombreux soutenir l’organisation des parents et de l’école communale de Bléharies et lancer la Fancy Fair dans une super ambiance ! 🎈\n🔥 On compte sur vous pour chausser les baskets et venir courir (ou marcher) avec nous !
URL:https://brunehaut.be/agenda/course-nature-de-bleharies-3/
LOCATION:Ecole communale de Bléharies\, Rue des Zelvas 2\, Bléharies\, 7620\, Belgique
CATEGORIES:École
ATTACH;FMTTYPE=image/jpeg:https://brunehaut.be/wp-content/uploads/2026/04/Affiche-couse-Bleharies-2026_page-0001-scaled.jpg
ORGANIZER;CN="Ecole Communale Bl%C3%A9haries":MAILTO:frederic.lannoo@commune-brunehaut.be
END:VEVENT
BEGIN:VEVENT
DTSTART;TZID=Europe/Paris:20260327T190000
DTEND;TZID=Europe/Paris:20260328T230000
DTSTAMP:20260420T204809
CREATED:20260323T095950Z
LAST-MODIFIED:20260323T095950Z
UID:10000302-1774638000-1774738800@brunehaut.be
SUMMARY:Fancy Fair Ecole Laplaigne avec Afterwork et Blind test
DESCRIPTION:🎉 Fancy Fair – École communale de Laplaigne 🎉\n\n😍 Nous serons bientôt en fête !\n\n📅 Vendredi 27 mars\n🍹 Afterwork dès 18h30\n🎶 Blind Test à 19h00\nAmbiance garantie pour démarrer le week-end dans la bonne humeur ! 🔥🎧\n\n📅 Samedi 28 mars\n💃 Danses des enfants dès 11h\n🍽️ Apéro & repas convivial\n🎺 Concert de la fanfare de Laplaigne à 13h\n🎭 Spectacle des enfants l’après-midi\n\n🎊 Jeux\, animations\, musique\, danses et convivialité : il y en aura pour tous les goûts ! 👌\n\n⭐ Blind Test – Infos pratiques\n👥 Équipes de maximum 6 personnes\n💰 6€ par équipe\n📌 Sur réservation uniquement (jusqu’à jeudi soir via les titulaires)\n🎵 Tous les styles\, toutes les générations… à vous de jouer !\n\n💛 N’hésitez pas à partager et à venir nous rejoindre : au plus on est nombreux\, au mieux c’est !\n\n📍 Maison de Village de Laplaigne\n\n👉 Bienvenue à tous !
URL:https://brunehaut.be/agenda/fancy-fair-ecole-laplaigne-avec-afterwork-et-blind-test/
LOCATION:Maison de village de Laplaigne\, Marais de l'Eglise 18A\, Laplaigne\, 7622\, Belgique
CATEGORIES:École
ATTACH;FMTTYPE=image/jpeg:https://brunehaut.be/wp-content/uploads/2026/03/Affiches-fete-scolaire-2026-definitives_page-0001-scaled.jpg
END:VEVENT
BEGIN:VEVENT
DTSTART;TZID=Europe/Paris:20260327T190000
DTEND;TZID=Europe/Paris:20260327T233000
DTSTAMP:20260420T204809
CREATED:20260317T091136Z
LAST-MODIFIED:20260317T091137Z
UID:10000298-1774638000-1774654200@brunehaut.be
SUMMARY:Blind Test Ecole communale de Laplaigne
DESCRIPTION:🎶⭐ BLIND TEST – FANCY FAIR DE L’ÉCOLE COMMUNALE DE LAPLAIGNE ⭐🎶\nAprès le succès de la première édition… le Blind Test revient ! 🔥\nVenez tester vos connaissances musicales et passer une soirée conviviale et amusante lors de la Fancy Fair de l’école.\n📅 Vendredi 27 mars 2026\n🕖 Début à 19h00\n📍 Sous le chapiteau – Maison du Village de Laplaigne\n🎧 Le principe ?\nReconnaître un maximum de chansons avant les autres équipes !\nAmbiance garantie\, bonne humeur et quelques surprises au programme 🎵\n👥 Équipes de maximum 6 personnes\n💰 6 € par équipe\n📌 Participation uniquement sur réservation\nQue vous soyez amateur de musique\, fan des années 80\, 90\, 2000 ou des hits actuels… tout le monde a sa chance ! 🎤✨\n🍻 Bar et petite restauration sur place pour profiter pleinement de la soirée.\n⚡ Formez votre équipe et inscrivez-vous rapidement : les places sont limitées !\n👉 On vous attend nombreux pour une soirée musicale festive à Laplaigne !
URL:https://brunehaut.be/agenda/blind-test-ecole-communale-de-laplaigne/
LOCATION:Maison de village de Laplaigne\, Marais de l'Eglise 18A\, Laplaigne\, 7622\, Belgique
CATEGORIES:École
ATTACH;FMTTYPE=image/jpeg:https://brunehaut.be/wp-content/uploads/2026/03/Affiche-Blind-Test-2026_page-0001-scaled.jpg
END:VEVENT
BEGIN:VEVENT
DTSTART;TZID=Europe/Paris:20251212T170000
DTEND;TZID=Europe/Paris:20251212T230000
DTSTAMP:20260420T204809
CREATED:20251210T111402Z
LAST-MODIFIED:20251210T111402Z
UID:10000280-1765558800-1765580400@brunehaut.be
SUMMARY:Marché Noël Ecole Bléharies
DESCRIPTION:Nous avons le plaisir de vous rappeler que le marché de Noël de l’école communale de Bléharies aura lieu ce vendredi 12 décembre 2025\, à partir de 17h. \nPour cette 3ᵉ édition\, petits et grands pourront profiter d’un marché des artisans et des enfants\, ainsi que d’un espace convivial avec petite restauration et bar\, le tout dans une ambiance chaleureuse et festive. \nNous vous attendons nombreux pour partager ce beau moment en famille et soutenir les projets de l’école.\nN’hésitez pas à diffuser largement l’information autour de vous ! \nAu plaisir de vous y retrouver ✨
URL:https://brunehaut.be/agenda/marche-noel-ecole-bleharies/
LOCATION:Ecole communale de Bléharies\, Rue des Zelvas 2\, Bléharies\, 7620\, Belgique
CATEGORIES:École
ATTACH;FMTTYPE=image/jpeg:https://brunehaut.be/wp-content/uploads/2025/12/affiche-marche-de-Noel-2025-Bleharies_page-0001.jpg
ORGANIZER;CN="Ecole Communale Bl%C3%A9haries":MAILTO:frederic.lannoo@commune-brunehaut.be
END:VEVENT
BEGIN:VEVENT
DTSTART;TZID=Europe/Paris:20250523T183000
DTEND;TZID=Europe/Paris:20250523T210000
DTSTAMP:20260420T204809
CREATED:20250512T153338Z
LAST-MODIFIED:20250512T153339Z
UID:10000252-1748025000-1748034000@brunehaut.be
SUMMARY:Course Nature De Bléharies
DESCRIPTION:Les parents d’élèves de l’école de Bléharies vous invitent à leur Course nature qui traversera les villages de Bléharies\, Lesdain et Rongy à l’occasion de la fête de l’école!\nVous aurez la chance d’emprunter sentiers\, ravel ainsi que certaines pépinières de Lesdain durant la course.\nUne after course festive est prévue après votre effort dans le chapiteau!\nDouches possibles au Brunehall\nÉvènement limité à 200 coureurs pour une organisation optimale 😉\nLe parcours est accessible aux marcheurs mais pas aux poussettes.\nInfos et inscriptions via le site\nwww.chronolap.net ou via le QR code
URL:https://brunehaut.be/agenda/course-nature-de-bleharies/
LOCATION:Administration communale de Brunehaut\, Rue Wibault Bouchart 11\, Bléharies\, 7620\, Belgique
CATEGORIES:École
ATTACH;FMTTYPE=image/jpeg:https://brunehaut.be/wp-content/uploads/2025/05/affiche-ble-course.jpg
ORGANIZER;CN="Ecole Communale Bl%C3%A9haries":MAILTO:frederic.lannoo@commune-brunehaut.be
END:VEVENT
BEGIN:VEVENT
DTSTART;TZID=Europe/Paris:20250516T153000
DTEND;TZID=Europe/Paris:20250516T190000
DTSTAMP:20260420T204809
CREATED:20250514T143350Z
LAST-MODIFIED:20250514T143352Z
UID:10000253-1747409400-1747422000@brunehaut.be
SUMMARY:Portes ouvertes LAPLAIGNE
DESCRIPTION:Portes Ouvertes et Marché aux Fleurs avec petit bar de 15h30 à 19h
URL:https://brunehaut.be/agenda/portes-ouvertes-laplaigne-2/
LOCATION:Ecole Communale Laplaigne Ruelle du couvent 8\, Ruelle couvent 8 7622 Laplaigne\, Laplaigne\, 7622\, Belgium
CATEGORIES:École
ATTACH;FMTTYPE=image/jpeg:https://brunehaut.be/wp-content/uploads/2025/05/IMG-20250514-WA0005.jpg
ORGANIZER;CN="Ecole communale Laplaigne":MAILTO:frederic.lannoo@commune-brunehaut.be
END:VEVENT
BEGIN:VEVENT
DTSTART;TZID=Europe/Paris:20241213T170000
DTEND;TZID=Europe/Paris:20241213T230000
DTSTAMP:20260420T204809
CREATED:20241209T133404Z
LAST-MODIFIED:20241211T085550Z
UID:10000193-1734109200-1734130800@brunehaut.be
SUMMARY:Marché Noël Ecole Communale Bléharies
DESCRIPTION:Deuxième édition de notre marché de Noël🎄\n– plus de 10 exposants\n– créations des enfants\n– visite du Père Noël 🎅🏻\n– bar\n– petites restaurations\nOn vous attend nombreux 🥰
URL:https://brunehaut.be/agenda/marche-noel-ecole-communal-bleharies/
LOCATION:Ecole communale de Bléharies\, Rue des Zelvas 2\, Bléharies\, 7620\, Belgique
CATEGORIES:École
ATTACH;FMTTYPE=image/jpeg:https://brunehaut.be/wp-content/uploads/2024/12/noel.jpg
ORGANIZER;CN="Ecole Communale Bl%C3%A9haries":MAILTO:frederic.lannoo@commune-brunehaut.be
END:VEVENT
BEGIN:VEVENT
DTSTART;TZID=Europe/Paris:20240615T180000
DTEND;TZID=Europe/Paris:20240615T230000
DTSTAMP:20260420T204809
CREATED:20240603T070227Z
LAST-MODIFIED:20240603T070230Z
UID:10000133-1718474400-1718492400@brunehaut.be
SUMMARY:SAMEDI D’Y ALLER
DESCRIPTION:Venez passer un agréable moment en famille\, entre amis. Un bon verre (ou plusieurs) vous attend ainsi que de la petite restauration. Des jeux de société seront mis à votre disposition sur un fond musical. 🎪🎲🃏
URL:https://brunehaut.be/agenda/samedi-dy-aller/
CATEGORIES:École
ATTACH;FMTTYPE=image/jpeg:https://brunehaut.be/wp-content/uploads/2024/06/IMG_1601.jpeg
END:VEVENT
BEGIN:VEVENT
DTSTART;TZID=Europe/Paris:20240604T140000
DTEND;TZID=Europe/Paris:20240604T190000
DTSTAMP:20260420T204809
CREATED:20240604T064526Z
LAST-MODIFIED:20240604T064528Z
UID:10000137-1717509600-1717527600@brunehaut.be
SUMMARY:Portes ouvertes LAPLAIGNE
DESCRIPTION:Portes ouvertes Ecole Communale Laplaigne
URL:https://brunehaut.be/agenda/portes-ouvertes-laplaigne/
LOCATION:Ecole communale de Laplaigne\, Ruelle du Couvent 8\, Laplaigne\, 7622\, Belgique
CATEGORIES:École
ATTACH;FMTTYPE=image/jpeg:https://brunehaut.be/wp-content/uploads/2024/06/Portes-ouvertes-Laplaigne.jpg
END:VEVENT
BEGIN:VEVENT
DTSTART;TZID=Europe/Paris:20240531T000000
DTEND;TZID=Europe/Paris:20240531T235959
DTSTAMP:20260420T204809
CREATED:20240205T085301Z
LAST-MODIFIED:20240205T085345Z
UID:10000055-1717113600-1717199999@brunehaut.be
SUMMARY:Journée portes ouvertes - école communale de Guignies
DESCRIPTION:
URL:https://brunehaut.be/agenda/journee-portes-ouvertes-ecole-communale-de-guignies/
CATEGORIES:École
ATTACH;FMTTYPE=image/png:https://brunehaut.be/wp-content/uploads/2024/02/Gregory-Guignies-Portes-ouvertes.png
END:VEVENT
BEGIN:VEVENT
DTSTART;TZID=Europe/Paris:20240406T110000
DTEND;TZID=Europe/Paris:20240406T190000
DTSTAMP:20260420T204809
CREATED:20240328T122739Z
LAST-MODIFIED:20240328T122741Z
UID:10000109-1712401200-1712430000@brunehaut.be
SUMMARY:Fancy Fair Ecole Communale Laplaigne
DESCRIPTION:Fancy Fair Ecole Communale Laplaigne
URL:https://brunehaut.be/agenda/fancy-fair-ecole-communale-laplaigne/
LOCATION:Maison de village de Laplaigne\, Marais de l'Eglise 18A\, Laplaigne\, 7622\, Belgique
CATEGORIES:École
ATTACH;FMTTYPE=image/png:https://brunehaut.be/wp-content/uploads/2024/03/2.png
END:VEVENT
BEGIN:VEVENT
DTSTART;TZID=Europe/Paris:20240405T183000
DTEND;TZID=Europe/Paris:20240405T230000
DTSTAMP:20260420T204809
CREATED:20240328T122541Z
LAST-MODIFIED:20240328T122543Z
UID:10000108-1712341800-1712358000@brunehaut.be
SUMMARY:Afterwork Ecole Laplaigne
DESCRIPTION:Afterwork Ecole Laplaigne
URL:https://brunehaut.be/agenda/afterwork-ecole-laplaigne/
LOCATION:Maison de village de Laplaigne\, Marais de l'Eglise 18A\, Laplaigne\, 7622\, Belgique
CATEGORIES:École
ATTACH;FMTTYPE=image/png:https://brunehaut.be/wp-content/uploads/2024/03/1.png
END:VEVENT
BEGIN:VEVENT
DTSTART;TZID=Europe/Paris:20240323T110000
DTEND;TZID=Europe/Paris:20240323T230000
DTSTAMP:20260420T204809
CREATED:20240315T112346Z
LAST-MODIFIED:20240315T112347Z
UID:10000101-1711191600-1711234800@brunehaut.be
SUMMARY:Fancy Fair Ecole Communale Bléharies
DESCRIPTION:Fancy-Fair Ecole communale de Bléharies
URL:https://brunehaut.be/agenda/fancy-fair-ecole-communale-bleharies-2/
LOCATION:Ecole communale de Bléharies\, Rue des Zelvas 2\, Bléharies\, 7620\, Belgique
CATEGORIES:École
ATTACH;FMTTYPE=image/jpeg:https://brunehaut.be/wp-content/uploads/2024/03/A4-fete-scolaire.jpg
END:VEVENT
BEGIN:VEVENT
DTSTART;TZID=Europe/Paris:20240322T180000
DTEND;TZID=Europe/Paris:20240322T230000
DTSTAMP:20260420T204809
CREATED:20240315T112358Z
LAST-MODIFIED:20240315T112359Z
UID:10000100-1711130400-1711148400@brunehaut.be
SUMMARY:Afterwork Ecole Bléharies
DESCRIPTION:Afterwork Ecole Bléharies
URL:https://brunehaut.be/agenda/afterwork-ecole-bleharies/
LOCATION:Ecole communale de Bléharies\, Rue des Zelvas 2\, Bléharies\, 7620\, Belgique
CATEGORIES:École
ATTACH;FMTTYPE=image/png:https://brunehaut.be/wp-content/uploads/2024/03/A4-after-work-.png
END:VEVENT
END:VCALENDAR