BEGIN:VCALENDAR
VERSION:2.0
PRODID:-//Commune de Brunehaut - ECPv6.15.20//NONSGML v1.0//EN
CALSCALE:GREGORIAN
METHOD:PUBLISH
X-WR-CALNAME:Commune de Brunehaut
X-ORIGINAL-URL:https://brunehaut.be
X-WR-CALDESC:Évènements pour Commune de Brunehaut
REFRESH-INTERVAL;VALUE=DURATION:PT1H
X-Robots-Tag:noindex
X-PUBLISHED-TTL:PT1H
BEGIN:VTIMEZONE
TZID:Europe/Paris
BEGIN:DAYLIGHT
TZOFFSETFROM:+0100
TZOFFSETTO:+0200
TZNAME:CEST
DTSTART:20230326T010000
END:DAYLIGHT
BEGIN:STANDARD
TZOFFSETFROM:+0200
TZOFFSETTO:+0100
TZNAME:CET
DTSTART:20231029T010000
END:STANDARD
BEGIN:DAYLIGHT
TZOFFSETFROM:+0100
TZOFFSETTO:+0200
TZNAME:CEST
DTSTART:20240331T010000
END:DAYLIGHT
BEGIN:STANDARD
TZOFFSETFROM:+0200
TZOFFSETTO:+0100
TZNAME:CET
DTSTART:20241027T010000
END:STANDARD
BEGIN:DAYLIGHT
TZOFFSETFROM:+0100
TZOFFSETTO:+0200
TZNAME:CEST
DTSTART:20250330T010000
END:DAYLIGHT
BEGIN:STANDARD
TZOFFSETFROM:+0200
TZOFFSETTO:+0100
TZNAME:CET
DTSTART:20251026T010000
END:STANDARD
END:VTIMEZONE
BEGIN:VEVENT
DTSTART;TZID=Europe/Paris:20240721T100000
DTEND;TZID=Europe/Paris:20240721T120000
DTSTAMP:20260422T102706
CREATED:20240709T094957Z
LAST-MODIFIED:20240709T094958Z
UID:10000144-1721556000-1721563200@brunehaut.be
SUMMARY:Cérémonie patriotique 21 juillet 2024
DESCRIPTION:A 10h00 : Dans chaque village de l’entité possédant un monument aux morts\, y compris Howardries\, dépôt de la gerbe de l’Administration communale par le responsable désigné par le Collège. \nA 10h45 : Rassemblement au pied de l’Eglise de Laplaigne pour la cérémonie collective.
URL:https://brunehaut.be/agenda/ceremonie-patriotique-21-juillet-2024/
LOCATION:Eglise de Laplaigne\, Marais de l'Eglise\, Laplaigne\, 7622
CATEGORIES:Cérémonie patriotique
ORGANIZER;CN="Administration communale de Brunehaut":MAILTO:mickael.haudrechy@commune-brunehaut.be
END:VEVENT
END:VCALENDAR