BEGIN:VCALENDAR
VERSION:2.0
PRODID:-//Commune de Brunehaut - ECPv6.15.20//NONSGML v1.0//EN
CALSCALE:GREGORIAN
METHOD:PUBLISH
X-WR-CALNAME:Commune de Brunehaut
X-ORIGINAL-URL:https://brunehaut.be
X-WR-CALDESC:Évènements pour Commune de Brunehaut
REFRESH-INTERVAL;VALUE=DURATION:PT1H
X-Robots-Tag:noindex
X-PUBLISHED-TTL:PT1H
BEGIN:VTIMEZONE
TZID:Europe/Paris
BEGIN:DAYLIGHT
TZOFFSETFROM:+0100
TZOFFSETTO:+0200
TZNAME:CEST
DTSTART:20240331T010000
END:DAYLIGHT
BEGIN:STANDARD
TZOFFSETFROM:+0200
TZOFFSETTO:+0100
TZNAME:CET
DTSTART:20241027T010000
END:STANDARD
BEGIN:DAYLIGHT
TZOFFSETFROM:+0100
TZOFFSETTO:+0200
TZNAME:CEST
DTSTART:20250330T010000
END:DAYLIGHT
BEGIN:STANDARD
TZOFFSETFROM:+0200
TZOFFSETTO:+0100
TZNAME:CET
DTSTART:20251026T010000
END:STANDARD
BEGIN:DAYLIGHT
TZOFFSETFROM:+0100
TZOFFSETTO:+0200
TZNAME:CEST
DTSTART:20260329T010000
END:DAYLIGHT
BEGIN:STANDARD
TZOFFSETFROM:+0200
TZOFFSETTO:+0100
TZNAME:CET
DTSTART:20261025T010000
END:STANDARD
END:VTIMEZONE
BEGIN:VEVENT
DTSTART;TZID=Europe/Paris:20251217T173000
DTEND;TZID=Europe/Paris:20251217T210000
DTSTAMP:20260422T024913
CREATED:20251205T071351Z
LAST-MODIFIED:20251217T081722Z
UID:10000279-1765992600-1766005200@brunehaut.be
SUMMARY:Ecole de Wez : Marche de Noël dans les rues du village
DESCRIPTION:Marche de Noël à partir de 17h30. Conte \, chants\nPetite restauration
URL:https://brunehaut.be/agenda/ecole-de-wez-marche-de-noel-dans-les-rues-du-village/
LOCATION:Ecole communale de Wez\, Rue de l'Ecole 29\, Wez-Velvain\, 7620\, Belgique
ATTACH;FMTTYPE=image/png:https://brunehaut.be/wp-content/uploads/2025/12/Fete-de-Noel-Wez.png
END:VEVENT
BEGIN:VEVENT
DTSTART;TZID=Europe/Paris:20251217T173000
DTEND;TZID=Europe/Paris:20251217T220000
DTSTAMP:20260422T024913
CREATED:20251205T071330Z
LAST-MODIFIED:20251205T071331Z
UID:10000278-1765992600-1766008800@brunehaut.be
SUMMARY:Marché de Noël de l'école de Hollain
DESCRIPTION:Marché de Noël à partir de 17h30.\nPrésence d’artisans \, petite restauration
URL:https://brunehaut.be/agenda/marche-de-noel-de-lecole-de-hollain/
LOCATION:Ecole communale de Hollain\, Rue Cazier 2A\, Hollain\, 7620\, Belgique
ATTACH;FMTTYPE=image/jpeg:https://brunehaut.be/wp-content/uploads/2025/12/Marche-Noel-Hollain.jpg
END:VEVENT
END:VCALENDAR