BEGIN:VCALENDAR
VERSION:2.0
PRODID:-//Commune de Brunehaut - ECPv6.15.20//NONSGML v1.0//EN
CALSCALE:GREGORIAN
METHOD:PUBLISH
X-ORIGINAL-URL:https://brunehaut.be
X-WR-CALDESC:Évènements pour Commune de Brunehaut
REFRESH-INTERVAL;VALUE=DURATION:PT1H
X-Robots-Tag:noindex
X-PUBLISHED-TTL:PT1H
BEGIN:VTIMEZONE
TZID:Europe/Paris
BEGIN:DAYLIGHT
TZOFFSETFROM:+0100
TZOFFSETTO:+0200
TZNAME:CEST
DTSTART:20240331T010000
END:DAYLIGHT
BEGIN:STANDARD
TZOFFSETFROM:+0200
TZOFFSETTO:+0100
TZNAME:CET
DTSTART:20241027T010000
END:STANDARD
BEGIN:DAYLIGHT
TZOFFSETFROM:+0100
TZOFFSETTO:+0200
TZNAME:CEST
DTSTART:20250330T010000
END:DAYLIGHT
BEGIN:STANDARD
TZOFFSETFROM:+0200
TZOFFSETTO:+0100
TZNAME:CET
DTSTART:20251026T010000
END:STANDARD
BEGIN:DAYLIGHT
TZOFFSETFROM:+0100
TZOFFSETTO:+0200
TZNAME:CEST
DTSTART:20260329T010000
END:DAYLIGHT
BEGIN:STANDARD
TZOFFSETFROM:+0200
TZOFFSETTO:+0100
TZNAME:CET
DTSTART:20261025T010000
END:STANDARD
END:VTIMEZONE
BEGIN:VEVENT
DTSTART;TZID=Europe/Paris:20251011T073000
DTEND;TZID=Europe/Paris:20251011T190000
DTSTAMP:20260421T233219
CREATED:20250926T095222Z
LAST-MODIFIED:20250926T095224Z
UID:10000268-1760167800-1760209200@brunehaut.be
SUMMARY:Le Familistère de Guise et les églises fortifiées de Thiérache
DESCRIPTION:Le Cercle d’Histoire Locale de Brunehaut organise son excursion annuelle le samedi 11 octobre.\nCette année\, c’est en Thiérache que le Cercle vous amène visite le Familistère de Guise\, l’utopie sociale de J-B GODIN.\nAutre particularité de cette région\, les églises fortifiées qui ont permis aux villageois de se protéger des invasions et des pillages.\nDépart du Brunehall de Bléharies à 7h30\,
URL:https://brunehaut.be/agenda/le-familistere-de-guise-et-les-eglises-fortifiees-de-thierache/
LOCATION:Départ du Bléharies parking du Brunehall
CATEGORIES:Divers & Autres
ATTACH;FMTTYPE=image/jpeg:https://brunehaut.be/wp-content/uploads/2025/08/1756454768513-9db2da40-d14c-442c-ada3-7776f01c1f2e_1.jpg
END:VEVENT
BEGIN:VEVENT
DTSTART;TZID=Europe/Paris:20251011T150000
DTEND;TZID=Europe/Paris:20251011T170000
DTSTAMP:20260421T233219
CREATED:20251003T091658Z
LAST-MODIFIED:20251003T091659Z
UID:10000271-1760194800-1760202000@brunehaut.be
SUMMARY:ATELIER " FABRIQUER SES VINAIGRES FAITS MAISON"
DESCRIPTION:Confection de vinaigres de cidre\, de vin\, des explications sur les vinaigres médicinaux\, les vinaigres aromatisés….
URL:https://brunehaut.be/agenda/atelier-fabriquer-ses-vinaigres-faits-maison/
LOCATION:Administration communale de Brunehaut\, Rue Wibault Bouchart 11\, Bléharies\, 7620\, Belgique
CATEGORIES:Divers & Autres
ATTACH;FMTTYPE=image/jpeg:https://brunehaut.be/wp-content/uploads/2025/10/LAutomne-au-Naturel-a-Brunehaut-6.jpg
ORGANIZER;CN="Administration communale de Brunehaut":MAILTO:mickael.haudrechy@commune-brunehaut.be
END:VEVENT
END:VCALENDAR