BEGIN:VCALENDAR
VERSION:2.0
PRODID:-//Commune de Brunehaut - ECPv6.15.20//NONSGML v1.0//EN
CALSCALE:GREGORIAN
METHOD:PUBLISH
X-ORIGINAL-URL:https://brunehaut.be
X-WR-CALDESC:Évènements pour Commune de Brunehaut
REFRESH-INTERVAL;VALUE=DURATION:PT1H
X-Robots-Tag:noindex
X-PUBLISHED-TTL:PT1H
BEGIN:VTIMEZONE
TZID:Europe/Paris
BEGIN:DAYLIGHT
TZOFFSETFROM:+0100
TZOFFSETTO:+0200
TZNAME:CEST
DTSTART:20240331T010000
END:DAYLIGHT
BEGIN:STANDARD
TZOFFSETFROM:+0200
TZOFFSETTO:+0100
TZNAME:CET
DTSTART:20241027T010000
END:STANDARD
BEGIN:DAYLIGHT
TZOFFSETFROM:+0100
TZOFFSETTO:+0200
TZNAME:CEST
DTSTART:20250330T010000
END:DAYLIGHT
BEGIN:STANDARD
TZOFFSETFROM:+0200
TZOFFSETTO:+0100
TZNAME:CET
DTSTART:20251026T010000
END:STANDARD
BEGIN:DAYLIGHT
TZOFFSETFROM:+0100
TZOFFSETTO:+0200
TZNAME:CEST
DTSTART:20260329T010000
END:DAYLIGHT
BEGIN:STANDARD
TZOFFSETFROM:+0200
TZOFFSETTO:+0100
TZNAME:CET
DTSTART:20261025T010000
END:STANDARD
END:VTIMEZONE
BEGIN:VEVENT
DTSTART;TZID=Europe/Paris:20250721T100000
DTEND;TZID=Europe/Paris:20250721T120000
DTSTAMP:20260421T190049
CREATED:20250714T075104Z
LAST-MODIFIED:20250714T075105Z
UID:10000264-1753092000-1753099200@brunehaut.be
SUMMARY:Cérémonie patriotique 21 juillet 2025
DESCRIPTION:A 10 heures  \nDans chaque village de l’entité possédant un monument aux morts\, petite cérémonie locale au pied du monument aux morts excepté à Rongy\, avec notamment le dépôt de la gerbe de l’Administration communale par le responsable désigné par le Collège. \nVers 10 heures 45  \nRassemblement au pied de l’Eglise de Rongy pour la cérémonie collective. \n–	Office religieux à 11 heures\n–	Discours\n–	A la fin de la cérémonie : Hymne européen suivie de « La Brabançonne »\n–	Dislocation et invitation par Monsieur le Bourgmestre à prendre le verre de l’amitié à l’Estaminet à Howardries.
URL:https://brunehaut.be/agenda/ceremonie-patriotique-21-juillet-2025/
LOCATION:Eglise de Rongy\, Rongy
CATEGORIES:Cérémonie patriotique
ORGANIZER;CN="Administration communale de Brunehaut":MAILTO:mickael.haudrechy@commune-brunehaut.be
END:VEVENT
END:VCALENDAR