BEGIN:VCALENDAR
VERSION:2.0
PRODID:-//Commune de Brunehaut - ECPv6.15.20//NONSGML v1.0//EN
CALSCALE:GREGORIAN
METHOD:PUBLISH
X-ORIGINAL-URL:https://brunehaut.be
X-WR-CALDESC:Évènements pour Commune de Brunehaut
REFRESH-INTERVAL;VALUE=DURATION:PT1H
X-Robots-Tag:noindex
X-PUBLISHED-TTL:PT1H
BEGIN:VTIMEZONE
TZID:Europe/Paris
BEGIN:DAYLIGHT
TZOFFSETFROM:+0100
TZOFFSETTO:+0200
TZNAME:CEST
DTSTART:20240331T010000
END:DAYLIGHT
BEGIN:STANDARD
TZOFFSETFROM:+0200
TZOFFSETTO:+0100
TZNAME:CET
DTSTART:20241027T010000
END:STANDARD
BEGIN:DAYLIGHT
TZOFFSETFROM:+0100
TZOFFSETTO:+0200
TZNAME:CEST
DTSTART:20250330T010000
END:DAYLIGHT
BEGIN:STANDARD
TZOFFSETFROM:+0200
TZOFFSETTO:+0100
TZNAME:CET
DTSTART:20251026T010000
END:STANDARD
BEGIN:DAYLIGHT
TZOFFSETFROM:+0100
TZOFFSETTO:+0200
TZNAME:CEST
DTSTART:20260329T010000
END:DAYLIGHT
BEGIN:STANDARD
TZOFFSETFROM:+0200
TZOFFSETTO:+0100
TZNAME:CET
DTSTART:20261025T010000
END:STANDARD
END:VTIMEZONE
BEGIN:VEVENT
DTSTART;TZID=Europe/Paris:20250530T000000
DTEND;TZID=Europe/Paris:20250601T235959
DTSTAMP:20260421T154921
CREATED:20250430T090013Z
LAST-MODIFIED:20250430T090016Z
UID:10000249-1748563200-1748822399@brunehaut.be
SUMMARY:3 jours de fête pour Margot et Relais pour la vie
DESCRIPTION:Durant tout le weekend\, restauration\, tombola\, activités pour les enfants.Pour les réservations de repas\, brocante et artisanat\, téléphonez au 0495/23.16.24 \n\n\n\nDécouvrez le programme complet sur https://www.facebook.com/groups/1033517775072809
URL:https://brunehaut.be/agenda/3-jours-de-fete-pour-margot-et-relais-pour-la-vie/
END:VEVENT
BEGIN:VEVENT
DTSTART;TZID=Europe/Paris:20250601T140000
DTEND;TZID=Europe/Paris:20250601T180000
DTSTAMP:20260421T154921
CREATED:20250310T081531Z
LAST-MODIFIED:20250310T081533Z
UID:10000227-1748786400-1748800800@brunehaut.be
SUMMARY:Club de jeux de société adultes "Les dépendants ludiques"
DESCRIPTION:Les dépendants ludique\, club de jeux de société adultes vous accueillent à la bibliothèque de Bléharies chaque premier dimanche du mois.\nEnvie de tester ou de s’initier à des jeux de stratégie\, de se lancer dans des parties plus longues ou plus complexes ? Les membres du club sont là pour vous guider !
URL:https://brunehaut.be/agenda/club-de-jeux-de-societe-adultes-les-dependants-ludiques/2025-06-01/
LOCATION:Bibliothèque de Brunehaut\, Rue des Déportés 13\, Brunehaut\, 7620\, Belgique
ATTACH;FMTTYPE=image/jpeg:https://brunehaut.be/wp-content/uploads/2025/02/481577848_543478408752306_8956504435137362445_n.jpg
ORGANIZER;CN="Biblioth%C3%A8que de Brunehaut":MAILTO:clpbbrune@hotmail.com
END:VEVENT
END:VCALENDAR