BEGIN:VCALENDAR
VERSION:2.0
PRODID:-//Commune de Brunehaut - ECPv6.15.20//NONSGML v1.0//EN
CALSCALE:GREGORIAN
METHOD:PUBLISH
X-ORIGINAL-URL:https://brunehaut.be
X-WR-CALDESC:Évènements pour Commune de Brunehaut
REFRESH-INTERVAL;VALUE=DURATION:PT1H
X-Robots-Tag:noindex
X-PUBLISHED-TTL:PT1H
BEGIN:VTIMEZONE
TZID:Europe/Paris
BEGIN:DAYLIGHT
TZOFFSETFROM:+0100
TZOFFSETTO:+0200
TZNAME:CEST
DTSTART:20240331T010000
END:DAYLIGHT
BEGIN:STANDARD
TZOFFSETFROM:+0200
TZOFFSETTO:+0100
TZNAME:CET
DTSTART:20241027T010000
END:STANDARD
BEGIN:DAYLIGHT
TZOFFSETFROM:+0100
TZOFFSETTO:+0200
TZNAME:CEST
DTSTART:20250330T010000
END:DAYLIGHT
BEGIN:STANDARD
TZOFFSETFROM:+0200
TZOFFSETTO:+0100
TZNAME:CET
DTSTART:20251026T010000
END:STANDARD
BEGIN:DAYLIGHT
TZOFFSETFROM:+0100
TZOFFSETTO:+0200
TZNAME:CEST
DTSTART:20260329T010000
END:DAYLIGHT
BEGIN:STANDARD
TZOFFSETFROM:+0200
TZOFFSETTO:+0100
TZNAME:CET
DTSTART:20261025T010000
END:STANDARD
END:VTIMEZONE
BEGIN:VEVENT
DTSTART;TZID=Europe/Paris:20250429T140000
DTEND;TZID=Europe/Paris:20250429T160000
DTSTAMP:20260421T142115
CREATED:20250402T075422Z
LAST-MODIFIED:20250402T075424Z
UID:10000236-1745935200-1745942400@brunehaut.be
SUMMARY:Balade nature autour de l'Escaut
DESCRIPTION:Christine vous guidera aux abords de l’Escaut pour admirer\, connaître et reconnaître la faune et la flore de notre entité\n\nVenez avec vos amis et votre famille et n’oubliez pas vos chaussures de marche !\n\nEnsemble\, célébrons la beauté de notre environnement naturel\n\nParcours non accessible aux PMR et aux poussettes\n\nInscription obligatoire auprès de : christine.duquet@gmail.com\nLe lieu de départ sera communiqué lors de l’inscription
URL:https://brunehaut.be/agenda/balade-nature-autour-de-lescaut/
LOCATION:Bléharies\, Belgium
CATEGORIES:Balade & visite
ATTACH;FMTTYPE=image/jpeg:https://brunehaut.be/wp-content/uploads/2025/04/Design-sans-titre-6.jpg
END:VEVENT
END:VCALENDAR