BEGIN:VCALENDAR
VERSION:2.0
PRODID:-//Commune de Brunehaut - ECPv6.15.20//NONSGML v1.0//EN
CALSCALE:GREGORIAN
METHOD:PUBLISH
X-WR-CALNAME:Commune de Brunehaut
X-ORIGINAL-URL:https://brunehaut.be
X-WR-CALDESC:Évènements pour Commune de Brunehaut
REFRESH-INTERVAL;VALUE=DURATION:PT1H
X-Robots-Tag:noindex
X-PUBLISHED-TTL:PT1H
BEGIN:VTIMEZONE
TZID:Europe/Paris
BEGIN:DAYLIGHT
TZOFFSETFROM:+0100
TZOFFSETTO:+0200
TZNAME:CEST
DTSTART:20240331T010000
END:DAYLIGHT
BEGIN:STANDARD
TZOFFSETFROM:+0200
TZOFFSETTO:+0100
TZNAME:CET
DTSTART:20241027T010000
END:STANDARD
BEGIN:DAYLIGHT
TZOFFSETFROM:+0100
TZOFFSETTO:+0200
TZNAME:CEST
DTSTART:20250330T010000
END:DAYLIGHT
BEGIN:STANDARD
TZOFFSETFROM:+0200
TZOFFSETTO:+0100
TZNAME:CET
DTSTART:20251026T010000
END:STANDARD
BEGIN:DAYLIGHT
TZOFFSETFROM:+0100
TZOFFSETTO:+0200
TZNAME:CEST
DTSTART:20260329T010000
END:DAYLIGHT
BEGIN:STANDARD
TZOFFSETFROM:+0200
TZOFFSETTO:+0100
TZNAME:CET
DTSTART:20261025T010000
END:STANDARD
END:VTIMEZONE
BEGIN:VEVENT
DTSTART;TZID=Europe/Paris:20250406T100000
DTEND;TZID=Europe/Paris:20250406T120000
DTSTAMP:20260421T130030
CREATED:20250313T075200Z
LAST-MODIFIED:20250313T075213Z
UID:10000229-1743933600-1743940800@brunehaut.be
SUMMARY:Balade autour de la ventelle de Laplaigne
DESCRIPTION:Partez à la découverte de la ventelle de la digue de Laplaigne ! Au cours de cette balade guidée\, des passionnés habitant la commune de Brunehaut vous retraceront l’histoire du village\, entre inondation\, château disparu et ancien moulin. Ils évoqueront également les métiers et pratiques agricoles d’antan au cœur des marais ainsi que la gestion de l’eau et toute l’utilité d’une ventelle pour réguler l’Escaut avant sa canalisation.\nInfos : 069 87 10 90 – www.developpementruralbrunehaut.info
URL:https://brunehaut.be/agenda/balade-autour-de-la-ventelle-de-laplaigne/
LOCATION:Place de Laplaigne\, Marais de l'Église\, Laplaigne\, Hainaut\, 7622\, Belgium
CATEGORIES:Balade & visite,Exposition
ATTACH;FMTTYPE=image/png:https://brunehaut.be/wp-content/uploads/2025/03/Balade-de-la-ventelle-de-la-digue-Communication-06-04-2025-RS.png
END:VEVENT
BEGIN:VEVENT
DTSTART;TZID=Europe/Paris:20250406T140000
DTEND;TZID=Europe/Paris:20250406T180000
DTSTAMP:20260421T130030
CREATED:20250310T081531Z
LAST-MODIFIED:20250310T081533Z
UID:10000225-1743948000-1743962400@brunehaut.be
SUMMARY:Club de jeux de société adultes "Les dépendants ludiques"
DESCRIPTION:Les dépendants ludique\, club de jeux de société adultes vous accueillent à la bibliothèque de Bléharies chaque premier dimanche du mois.\nEnvie de tester ou de s’initier à des jeux de stratégie\, de se lancer dans des parties plus longues ou plus complexes ? Les membres du club sont là pour vous guider !
URL:https://brunehaut.be/agenda/club-de-jeux-de-societe-adultes-les-dependants-ludiques/2025-04-06/
LOCATION:Bibliothèque de Brunehaut\, Rue des Déportés 13\, Brunehaut\, 7620\, Belgique
ATTACH;FMTTYPE=image/jpeg:https://brunehaut.be/wp-content/uploads/2025/02/481577848_543478408752306_8956504435137362445_n.jpg
ORGANIZER;CN="Biblioth%C3%A8que de Brunehaut":MAILTO:clpbbrune@hotmail.com
END:VEVENT
END:VCALENDAR