BEGIN:VCALENDAR
VERSION:2.0
PRODID:-//Commune de Brunehaut - ECPv6.15.20//NONSGML v1.0//EN
CALSCALE:GREGORIAN
METHOD:PUBLISH
X-WR-CALNAME:Commune de Brunehaut
X-ORIGINAL-URL:https://brunehaut.be
X-WR-CALDESC:Évènements pour Commune de Brunehaut
REFRESH-INTERVAL;VALUE=DURATION:PT1H
X-Robots-Tag:noindex
X-PUBLISHED-TTL:PT1H
BEGIN:VTIMEZONE
TZID:Europe/Paris
BEGIN:DAYLIGHT
TZOFFSETFROM:+0100
TZOFFSETTO:+0200
TZNAME:CEST
DTSTART:20240331T010000
END:DAYLIGHT
BEGIN:STANDARD
TZOFFSETFROM:+0200
TZOFFSETTO:+0100
TZNAME:CET
DTSTART:20241027T010000
END:STANDARD
BEGIN:DAYLIGHT
TZOFFSETFROM:+0100
TZOFFSETTO:+0200
TZNAME:CEST
DTSTART:20250330T010000
END:DAYLIGHT
BEGIN:STANDARD
TZOFFSETFROM:+0200
TZOFFSETTO:+0100
TZNAME:CET
DTSTART:20251026T010000
END:STANDARD
BEGIN:DAYLIGHT
TZOFFSETFROM:+0100
TZOFFSETTO:+0200
TZNAME:CEST
DTSTART:20260329T010000
END:DAYLIGHT
BEGIN:STANDARD
TZOFFSETFROM:+0200
TZOFFSETTO:+0100
TZNAME:CET
DTSTART:20261025T010000
END:STANDARD
END:VTIMEZONE
BEGIN:VEVENT
DTSTART;TZID=Europe/Paris:20250405T090000
DTEND;TZID=Europe/Paris:20250405T120000
DTSTAMP:20260421T130030
CREATED:20250224T144147Z
LAST-MODIFIED:20250224T144148Z
UID:10000213-1743843600-1743854400@brunehaut.be
SUMMARY:Atelier céramique intergénérationnel
DESCRIPTION:Confection de céramique en deux temps : confection le premier jour et le second la finition.Accessible à partir de 10 ans.Groupe maximum de 2 personnes.
URL:https://brunehaut.be/agenda/atelier-ceramique-intergenerationnel/2025-04-05/
LOCATION:Maison de village de Velvain\, Rue du Veillé 7A\, Wez-Velvain\, 7620\, Belgique
ATTACH;FMTTYPE=image/png:https://brunehaut.be/wp-content/uploads/2025/02/affiche-ateliers-ceramique-2025.png
END:VEVENT
END:VCALENDAR