BEGIN:VCALENDAR
VERSION:2.0
PRODID:-//Commune de Brunehaut - ECPv6.15.20//NONSGML v1.0//EN
CALSCALE:GREGORIAN
METHOD:PUBLISH
X-ORIGINAL-URL:https://brunehaut.be
X-WR-CALDESC:Évènements pour Commune de Brunehaut
REFRESH-INTERVAL;VALUE=DURATION:PT1H
X-Robots-Tag:noindex
X-PUBLISHED-TTL:PT1H
BEGIN:VTIMEZONE
TZID:Europe/Paris
BEGIN:DAYLIGHT
TZOFFSETFROM:+0100
TZOFFSETTO:+0200
TZNAME:CEST
DTSTART:20240331T010000
END:DAYLIGHT
BEGIN:STANDARD
TZOFFSETFROM:+0200
TZOFFSETTO:+0100
TZNAME:CET
DTSTART:20241027T010000
END:STANDARD
BEGIN:DAYLIGHT
TZOFFSETFROM:+0100
TZOFFSETTO:+0200
TZNAME:CEST
DTSTART:20250330T010000
END:DAYLIGHT
BEGIN:STANDARD
TZOFFSETFROM:+0200
TZOFFSETTO:+0100
TZNAME:CET
DTSTART:20251026T010000
END:STANDARD
BEGIN:DAYLIGHT
TZOFFSETFROM:+0100
TZOFFSETTO:+0200
TZNAME:CEST
DTSTART:20260329T010000
END:DAYLIGHT
BEGIN:STANDARD
TZOFFSETFROM:+0200
TZOFFSETTO:+0100
TZNAME:CET
DTSTART:20261025T010000
END:STANDARD
END:VTIMEZONE
BEGIN:VEVENT
DTSTART;TZID=Europe/Paris:20250329T000000
DTEND;TZID=Europe/Paris:20250329T235959
DTSTAMP:20260421T130121
CREATED:20250313T090144Z
LAST-MODIFIED:20250313T090145Z
UID:10000230-1743206400-1743292799@brunehaut.be
SUMMARY:Fête scolaire de l'école communale de Wez
DESCRIPTION:Fête scolaire avec brocante et marche
URL:https://brunehaut.be/agenda/fete-scolaire-de-lecole-communale-de-wez/
CATEGORIES:Fêtes & Folklore
ATTACH;FMTTYPE=image/png:https://brunehaut.be/wp-content/uploads/2025/03/fete-de-Wez-2025.png
END:VEVENT
BEGIN:VEVENT
DTSTART;TZID=Europe/Paris:20250329T080000
DTEND;TZID=Europe/Paris:20250329T150000
DTSTAMP:20260421T130121
CREATED:20250122T081745Z
LAST-MODIFIED:20250122T081747Z
UID:10000196-1743235200-1743260400@brunehaut.be
SUMMARY:Brocante du quartier de l'école - Wez
DESCRIPTION:2e édition de la brocante du quartier de l’école  \nOuvert à tous .\nPrix : 5€ / 4m\nCafé offert aux brocanteurs \nRéservation au 069/346170 ou par mail : fabien.vandersmissen@commune-brunehaut.be
URL:https://brunehaut.be/agenda/brocante-du-quartier-de-lecole-wez/
LOCATION:Ecole communale de Wez\, Rue de l'Ecole 29\, Wez-Velvain\, 7620\, Belgique
ATTACH;FMTTYPE=image/jpeg:https://brunehaut.be/wp-content/uploads/2025/01/brocante-wez-2025.jpg
END:VEVENT
BEGIN:VEVENT
DTSTART;TZID=Europe/Paris:20250329T090000
DTEND;TZID=Europe/Paris:20250329T113000
DTSTAMP:20260421T130121
CREATED:20250313T085900Z
LAST-MODIFIED:20250313T085901Z
UID:10000231-1743238800-1743247800@brunehaut.be
SUMMARY:Rallye pédestre balade à vélo - école communale de Wez
DESCRIPTION:Rallye pédestre et balade à vélo au départ de l’école communale de Wez
URL:https://brunehaut.be/agenda/rallye-pedestre-balade-a-velo-ecole-communale-de-wez/
LOCATION:Ecole communale de Wez\, Rue de l'Ecole 29\, Wez-Velvain\, 7620\, Belgique
ATTACH;FMTTYPE=image/jpeg:https://brunehaut.be/wp-content/uploads/2025/03/Wez-2025-marche.jpg
END:VEVENT
BEGIN:VEVENT
DTSTART;TZID=Europe/Paris:20250329T103000
DTEND;TZID=Europe/Paris:20250329T113000
DTSTAMP:20260421T130121
CREATED:20250219T154749Z
LAST-MODIFIED:20250219T154751Z
UID:10000200-1743244200-1743247800@brunehaut.be
SUMMARY:Lectures enfants à la bibliothèque
DESCRIPTION:Deux fois par mois\, Ambre notre super animatrice invite les tout petits à venir écouter de belles histoires à la bibliothèque.\nA partir de 2 ans jusqu’à 6 ans.\nActivité gratuite / Sans inscription.
URL:https://brunehaut.be/agenda/lectures-enfants-a-la-bibliotheque/2025-03-29/
LOCATION:Bibliothèque de Brunehaut\, Rue des Déportés 13\, Brunehaut\, 7620\, Belgique
CATEGORIES:Littérature
ATTACH;FMTTYPE=image/png:https://brunehaut.be/wp-content/uploads/2025/02/pub-facebook-lecture-enfant-polaroid.png
ORGANIZER;CN="Biblioth%C3%A8que de Brunehaut":MAILTO:clpbbrune@hotmail.com
END:VEVENT
END:VCALENDAR