BEGIN:VCALENDAR
VERSION:2.0
PRODID:-//Commune de Brunehaut - ECPv6.15.20//NONSGML v1.0//EN
CALSCALE:GREGORIAN
METHOD:PUBLISH
X-WR-CALNAME:Commune de Brunehaut
X-ORIGINAL-URL:https://brunehaut.be
X-WR-CALDESC:Évènements pour Commune de Brunehaut
REFRESH-INTERVAL;VALUE=DURATION:PT1H
X-Robots-Tag:noindex
X-PUBLISHED-TTL:PT1H
BEGIN:VTIMEZONE
TZID:Europe/Paris
BEGIN:DAYLIGHT
TZOFFSETFROM:+0100
TZOFFSETTO:+0200
TZNAME:CEST
DTSTART:20240331T010000
END:DAYLIGHT
BEGIN:STANDARD
TZOFFSETFROM:+0200
TZOFFSETTO:+0100
TZNAME:CET
DTSTART:20241027T010000
END:STANDARD
BEGIN:DAYLIGHT
TZOFFSETFROM:+0100
TZOFFSETTO:+0200
TZNAME:CEST
DTSTART:20250330T010000
END:DAYLIGHT
BEGIN:STANDARD
TZOFFSETFROM:+0200
TZOFFSETTO:+0100
TZNAME:CET
DTSTART:20251026T010000
END:STANDARD
BEGIN:DAYLIGHT
TZOFFSETFROM:+0100
TZOFFSETTO:+0200
TZNAME:CEST
DTSTART:20260329T010000
END:DAYLIGHT
BEGIN:STANDARD
TZOFFSETFROM:+0200
TZOFFSETTO:+0100
TZNAME:CET
DTSTART:20261025T010000
END:STANDARD
END:VTIMEZONE
BEGIN:VEVENT
DTSTART;TZID=Europe/Paris:20250327T133000
DTEND;TZID=Europe/Paris:20250327T150000
DTSTAMP:20260421T130142
CREATED:20250224T144338Z
LAST-MODIFIED:20250610T131234Z
UID:10000216-1743082200-1743087600@brunehaut.be
SUMMARY:Parents Zen : les astuces incontournables
DESCRIPTION:L’objectif de ces groupes est de fournir aux parents certains outils qui leur permettront de retrouver le sentiment de compétence parentale (gestion des sanctions\, renforcement positif\, formuler adéquatement une demande\, gestion des écrans\, des devoirs\, etc.)\, certaines techniques pour mieux gérer leurs émotions face aux comportements de leurs enfants\, etc.
URL:https://brunehaut.be/agenda/parents-zen-les-astuces-incontournables/2025-03-27/
LOCATION:Maison des Pépiniéristes\, Rue des Pépinières 24\, Lesdain\, 7620\, Belgium
ATTACH;FMTTYPE=image/jpeg:https://brunehaut.be/wp-content/uploads/2025/02/Parents-Zen-affiche-final.jpg
END:VEVENT
END:VCALENDAR